BEGIN:VCALENDAR
VERSION:2.0
PRODID:-//Global Cleveland - ECPv6.8.2//NONSGML v1.0//EN
CALSCALE:GREGORIAN
METHOD:PUBLISH
X-WR-CALNAME:Global Cleveland
X-ORIGINAL-URL:https://globalcleveland.org
X-WR-CALDESC:Events for Global Cleveland
REFRESH-INTERVAL;VALUE=DURATION:PT1H
X-Robots-Tag:noindex
X-PUBLISHED-TTL:PT1H
BEGIN:VTIMEZONE
TZID:America/Detroit
BEGIN:DAYLIGHT
TZOFFSETFROM:-0500
TZOFFSETTO:-0400
TZNAME:EDT
DTSTART:20260308T070000
END:DAYLIGHT
BEGIN:STANDARD
TZOFFSETFROM:-0400
TZOFFSETTO:-0500
TZNAME:EST
DTSTART:20261101T060000
END:STANDARD
END:VTIMEZONE
BEGIN:VEVENT
DTSTART;TZID=America/Detroit:20260612T200000
DTEND;TZID=America/Detroit:20260612T230000
DTSTAMP:20260422T185437
CREATED:20260422T133413Z
LAST-MODIFIED:20260422T133413Z
UID:52352-1781294400-1781305200@globalcleveland.org
SUMMARY:The Cranberries Music is coming to Cleveland in June!
DESCRIPTION:Why you should see this show… Linger is an exceptional tribute band dedicated to capturing the essence and spirit of the iconic ’90s Irish rock band\, The Cranberries. With a deep appreciation for the distinctive sound and heartfelt lyrics in the voice of the unforgettable Dolores O’Riordan\, Linger pays homage to the band’s memorable hits and timeless classics
URL:https://globalcleveland.org/eventcalendar/the-cranberries-music-is-coming-to-cleveland-in-june/
LOCATION:Music Box Supper Club\, 1148 Main Avenue\, Cleveland\, OH\, 44113\, United States
CATEGORIES:Performance
ATTACH;FMTTYPE=image/jpeg:https://globalcleveland.org/wp-content/uploads/2026/04/FB_IMG_1772230326022.jpg
END:VEVENT
END:VCALENDAR