BEGIN:VCALENDAR
VERSION:2.0
PRODID:-//Global Cleveland - ECPv6.8.2//NONSGML v1.0//EN
CALSCALE:GREGORIAN
METHOD:PUBLISH
X-ORIGINAL-URL:https://globalcleveland.org
X-WR-CALDESC:Events for Global Cleveland
REFRESH-INTERVAL;VALUE=DURATION:PT1H
X-Robots-Tag:noindex
X-PUBLISHED-TTL:PT1H
BEGIN:VTIMEZONE
TZID:America/Detroit
BEGIN:DAYLIGHT
TZOFFSETFROM:-0500
TZOFFSETTO:-0400
TZNAME:EDT
DTSTART:20240310T070000
END:DAYLIGHT
BEGIN:STANDARD
TZOFFSETFROM:-0400
TZOFFSETTO:-0500
TZNAME:EST
DTSTART:20241103T060000
END:STANDARD
END:VTIMEZONE
BEGIN:VEVENT
DTSTART;TZID=America/Detroit:20240913T113000
DTEND;TZID=America/Detroit:20240913T143000
DTSTAMP:20260425T152954
CREATED:20240701T161623Z
LAST-MODIFIED:20240701T161854Z
UID:31873-1726227000-1726237800@globalcleveland.org
SUMMARY:Global Cleveland's Welcoming Week Party Presented by One Hope NEO
DESCRIPTION:Join us for a free party to kick-off Welcoming Week 2024! \nCelebrate International Newcomers\, Northeast Ohio’s diversity\, and global cultures with free food\, music\, art\, and community.
URL:https://globalcleveland.org/eventcalendar/global-clevelands-welcoming-week-party-presented-by-one-hope-neo/
LOCATION:Cuyahoga County Welcome Center\, 4261 Fulton Pkwy\, Cleveland\, OH\, 44114\, United States
CATEGORIES:Cuisine,Cultural,Festival,Global Cleveland,Welcoming Week Events
ATTACH;FMTTYPE=image/png:https://globalcleveland.org/wp-content/uploads/2024/07/WW-Party-Square-Graphic.png
ORGANIZER;CN="Global Cleveland":MAILTO:info@globalcleveland.org
END:VEVENT
END:VCALENDAR