BEGIN:VCALENDAR
VERSION:2.0
PRODID:-//Global Cleveland - ECPv6.8.2//NONSGML v1.0//EN
CALSCALE:GREGORIAN
METHOD:PUBLISH
X-ORIGINAL-URL:https://globalcleveland.org
X-WR-CALDESC:Events for Global Cleveland
REFRESH-INTERVAL;VALUE=DURATION:PT1H
X-Robots-Tag:noindex
X-PUBLISHED-TTL:PT1H
BEGIN:VTIMEZONE
TZID:America/Detroit
BEGIN:DAYLIGHT
TZOFFSETFROM:-0500
TZOFFSETTO:-0400
TZNAME:EDT
DTSTART:20240310T070000
END:DAYLIGHT
BEGIN:STANDARD
TZOFFSETFROM:-0400
TZOFFSETTO:-0500
TZNAME:EST
DTSTART:20241103T060000
END:STANDARD
END:VTIMEZONE
BEGIN:VEVENT
DTSTART;TZID=America/Detroit:20240412T143000
DTEND;TZID=America/Detroit:20240412T160000
DTSTAMP:20260423T085317
CREATED:20240314T154952Z
LAST-MODIFIED:20240314T154952Z
UID:28844-1712932200-1712937600@globalcleveland.org
SUMMARY:Forever-Forever
DESCRIPTION:Will you survive if nobody loves you? Get an uncompromising glimpse of troubled adolescent life in post-Communist Kyiv through Tonia\, the new kid in school\, as she tries to assimilate into her new world. But as a love triangle starts to form among the clique\, will her past catch up with her? In an attempt to hide from an abusive ex-boyfriend\, Tonia transfers to a new high school\, where she instantly clicks with Lera\, a popular troublemaker who quickly pulls Tonia into her orbit. In over her head\, Tonia soon finds herself in the middle of a love triangle\, with feelings for two boys in Lera’s close-knit friend group. Meanwhile\, Tonia’s ex is closing in on her with increasingly violent threats. Exploring themes of desire\, belonging\, and impermanence\, this coming-of-age story is full of trials\, tribulations\, and real heart. Set in Kyiv in the 1990s\, FOREVER-FOREVER is an edgy love letter to the rebellious youth movement that rose from the ashes of the Soviet Union. —G.S. Content Warning: This film contains material that may be difficult for some viewers. Viewer discretion is advised.
URL:https://globalcleveland.org/eventcalendar/forever-forever/
LOCATION:Mimi Ohio Theatre\, 1511 Euclid Ave\, Cleveland\, OH\, 44115\, United States
CATEGORIES:Film
ATTACH;FMTTYPE=image/jpeg:https://globalcleveland.org/wp-content/uploads/2024/03/image-2-2.jpeg
END:VEVENT
END:VCALENDAR