BEGIN:VCALENDAR
VERSION:2.0
PRODID:-//Global Cleveland - ECPv6.8.2//NONSGML v1.0//EN
CALSCALE:GREGORIAN
METHOD:PUBLISH
X-ORIGINAL-URL:https://globalcleveland.org
X-WR-CALDESC:Events for Global Cleveland
REFRESH-INTERVAL;VALUE=DURATION:PT1H
X-Robots-Tag:noindex
X-PUBLISHED-TTL:PT1H
BEGIN:VTIMEZONE
TZID:America/Detroit
BEGIN:DAYLIGHT
TZOFFSETFROM:-0500
TZOFFSETTO:-0400
TZNAME:EDT
DTSTART:20240310T070000
END:DAYLIGHT
BEGIN:STANDARD
TZOFFSETFROM:-0400
TZOFFSETTO:-0500
TZNAME:EST
DTSTART:20241103T060000
END:STANDARD
END:VTIMEZONE
BEGIN:VEVENT
DTSTART;TZID=America/Detroit:20241207T110000
DTEND;TZID=America/Detroit:20241207T200000
DTSTAMP:20260420T101224
CREATED:20241009T153625Z
LAST-MODIFIED:20241121T145711Z
UID:34305-1733569200-1733601600@globalcleveland.org
SUMMARY:A Bavarian Christkindlmarkt
DESCRIPTION:Experience traditional food\, drink\, and seasonal items from open-air booths featuring local artists and crafters to delicious German-inspired food.  Viva Bavaria brings this popular German holiday experience to you right here in Northeast Ohio.
URL:https://globalcleveland.org/eventcalendar/a-bavarian-christkindlmarkt/
LOCATION:German Central\, 7863 York Road\, Parma\, OH\, United States
CATEGORIES:Cultural,Festival
ORGANIZER;CN="Viva Bavaria":MAILTO:iplattler@gmail.com
END:VEVENT
END:VCALENDAR