BEGIN:VCALENDAR
VERSION:2.0
PRODID:-//Global Cleveland - ECPv6.8.2//NONSGML v1.0//EN
CALSCALE:GREGORIAN
METHOD:PUBLISH
X-WR-CALNAME:Global Cleveland
X-ORIGINAL-URL:https://globalcleveland.org
X-WR-CALDESC:Events for Global Cleveland
REFRESH-INTERVAL;VALUE=DURATION:PT1H
X-Robots-Tag:noindex
X-PUBLISHED-TTL:PT1H
BEGIN:VTIMEZONE
TZID:America/Detroit
BEGIN:DAYLIGHT
TZOFFSETFROM:-0500
TZOFFSETTO:-0400
TZNAME:EDT
DTSTART:20250309T070000
END:DAYLIGHT
BEGIN:STANDARD
TZOFFSETFROM:-0400
TZOFFSETTO:-0500
TZNAME:EST
DTSTART:20251102T060000
END:STANDARD
END:VTIMEZONE
BEGIN:VEVENT
DTSTART;TZID=America/Detroit:20251018T100000
DTEND;TZID=America/Detroit:20251018T170000
DTSTAMP:20260421T141122
CREATED:20250929T185041Z
LAST-MODIFIED:20250929T185041Z
UID:50062-1760781600-1760806800@globalcleveland.org
SUMMARY:Diwali Celebration near me- North East Ohio Bengali Association
DESCRIPTION:A big event ever in Cleveland\, Ohio. Diwali mela will be organized by North east Ohio Bengali Association in Ohio. We are thrilled to invite all Indians to participate in NEOBA’s Diwali Mela\, a vibrant celebration of lights and culture! Here are the details: Calling Cultural Program Participants: Calling all performers from the Indian community in Cleveland\, Akron\, and Canton areas! There is no participation fee\, and entry to the event is completely free. Showcase your talents and join us for an unforgettable celebration. Use the form below to register: https://form.jotform.com/252155218622149 Calling Vendors: We’re offering attractive group booking rates for stalls! Refer to our stall booking form for more details and secure your spot early for this exciting event. Use the form below to register: https://form.jotform.com/252154900862152
URL:https://globalcleveland.org/eventcalendar/diwali-celebration-near-me-north-east-ohio-bengali-association/
LOCATION:solonmiddleschool\, 6835 SOM Ctr Rd\, Solon\, OH 44139\, Solon\, OH\, 44139\, United States
CATEGORIES:Festival
ATTACH;FMTTYPE=image/png:https://globalcleveland.org/wp-content/uploads/2025/09/Screenshot-2025-09-14-005229.png
ORGANIZER;CN="NorthEastOhioBengaliAssociation":MAILTO:doyeleducation@gmail.com
END:VEVENT
END:VCALENDAR