BEGIN:VCALENDAR
VERSION:2.0
PRODID:-//Global Cleveland - ECPv6.8.2//NONSGML v1.0//EN
CALSCALE:GREGORIAN
METHOD:PUBLISH
X-ORIGINAL-URL:https://globalcleveland.org
X-WR-CALDESC:Events for Global Cleveland
REFRESH-INTERVAL;VALUE=DURATION:PT1H
X-Robots-Tag:noindex
X-PUBLISHED-TTL:PT1H
BEGIN:VTIMEZONE
TZID:America/Detroit
BEGIN:DAYLIGHT
TZOFFSETFROM:-0500
TZOFFSETTO:-0400
TZNAME:EDT
DTSTART:20220313T070000
END:DAYLIGHT
BEGIN:STANDARD
TZOFFSETFROM:-0400
TZOFFSETTO:-0500
TZNAME:EST
DTSTART:20221106T060000
END:STANDARD
END:VTIMEZONE
BEGIN:VEVENT
DTSTART;TZID=America/Detroit:20220924T140000
DTEND;TZID=America/Detroit:20220924T160000
DTSTAMP:20260420T084622
CREATED:20220923T184925Z
LAST-MODIFIED:20220923T184925Z
UID:21118-1664028000-1664035200@globalcleveland.org
SUMMARY:Beebridge event
DESCRIPTION:Join Global Cleveland and The Fare Project for bee talk\, seed planting\, food\, and harvesting honey!
URL:https://globalcleveland.org/eventcalendar/beebridge-event/
LOCATION:Revolutionary Love Garden\, 12301 Imperial Ave\, Cleveland\, OH\, 44120
CATEGORIES:Cultural,Educational,Environmental,Global Cleveland
ORGANIZER;CN="Global Cleveland":MAILTO:info@globalcleveland.org
END:VEVENT
END:VCALENDAR