BEGIN:VCALENDAR
VERSION:2.0
PRODID:-//Global Cleveland - ECPv6.8.2//NONSGML v1.0//EN
CALSCALE:GREGORIAN
METHOD:PUBLISH
X-ORIGINAL-URL:https://globalcleveland.org
X-WR-CALDESC:Events for Global Cleveland
REFRESH-INTERVAL;VALUE=DURATION:PT1H
X-Robots-Tag:noindex
X-PUBLISHED-TTL:PT1H
BEGIN:VTIMEZONE
TZID:America/Detroit
BEGIN:DAYLIGHT
TZOFFSETFROM:-0500
TZOFFSETTO:-0400
TZNAME:EDT
DTSTART:20240310T070000
END:DAYLIGHT
BEGIN:STANDARD
TZOFFSETFROM:-0400
TZOFFSETTO:-0500
TZNAME:EST
DTSTART:20241103T060000
END:STANDARD
END:VTIMEZONE
BEGIN:VEVENT
DTSTART;TZID=America/Detroit:20240914T113000
DTEND;TZID=America/Detroit:20240922T180000
DTSTAMP:20260424T094555
CREATED:20240916T173939Z
LAST-MODIFIED:20240916T174140Z
UID:34285-1726313400-1727028000@globalcleveland.org
SUMMARY:Welcoming Week 2024
DESCRIPTION:Welcoming Week brings together neighbors of all backgrounds to build strong connections and affirm the importance of welcoming and inclusive places in achieving collective prosperity.
URL:https://globalcleveland.org/eventcalendar/welcoming-week-2024/
LOCATION:OH
CATEGORIES:Cuisine,Cultural,Educational,Employer,Festival,Global Cleveland,Welcoming Week Events
ATTACH;FMTTYPE=image/png:https://globalcleveland.org/wp-content/uploads/2024/09/Square-WW-General-Graphic.png
ORGANIZER;CN="Global Cleveland":MAILTO:info@globalcleveland.org
END:VEVENT
BEGIN:VEVENT
DTSTART;TZID=America/Detroit:20240919T090000
DTEND;TZID=America/Detroit:20240919T120000
DTSTAMP:20260424T094555
CREATED:20240729T164012Z
LAST-MODIFIED:20240729T164012Z
UID:32777-1726736400-1726747200@globalcleveland.org
SUMMARY:International Job and Resource Fair
DESCRIPTION:Are you an international person searching for a job in Northeast Ohio? Or are you an International Newcomer interested in receiving free resources? Join Global Cleveland at our job and resource fair to meet employers and pick up information and resources to help you thrive in our region.
URL:https://globalcleveland.org/eventcalendar/international-job-and-resource-fair/
LOCATION:Cuyahoga County Public Library – Parma-Snow Branch\, 2121 Snow Rd.\, Pama\, OH\, 44134\, United States
CATEGORIES:Employer,Job Fair,Welcoming Week Events
ATTACH;FMTTYPE=image/png:https://globalcleveland.org/wp-content/uploads/2024/07/WW-Job-and-Resource-Fair-Horizontal-Image-2.png
ORGANIZER;CN="Global Cleveland":MAILTO:info@globalcleveland.org
END:VEVENT
END:VCALENDAR