BEGIN:VCALENDAR
VERSION:2.0
PRODID:-//Global Cleveland - ECPv6.8.2//NONSGML v1.0//EN
CALSCALE:GREGORIAN
METHOD:PUBLISH
X-ORIGINAL-URL:https://globalcleveland.org
X-WR-CALDESC:Events for Global Cleveland
REFRESH-INTERVAL;VALUE=DURATION:PT1H
X-Robots-Tag:noindex
X-PUBLISHED-TTL:PT1H
BEGIN:VTIMEZONE
TZID:America/Detroit
BEGIN:DAYLIGHT
TZOFFSETFROM:-0500
TZOFFSETTO:-0400
TZNAME:EDT
DTSTART:20250309T070000
END:DAYLIGHT
BEGIN:STANDARD
TZOFFSETFROM:-0400
TZOFFSETTO:-0500
TZNAME:EST
DTSTART:20251102T060000
END:STANDARD
END:VTIMEZONE
BEGIN:VEVENT
DTSTART;TZID=America/Detroit:20251017T113000
DTEND;TZID=America/Detroit:20251017T133000
DTSTAMP:20260425T073944
CREATED:20251014T153344Z
LAST-MODIFIED:20251014T153344Z
UID:50258-1760700600-1760707800@globalcleveland.org
SUMMARY:"Cleveland as a Global City" with CCWA new CEO Marti Flacks
DESCRIPTION:Marti Flacks\, new CEO of Cleveland Council on World Affairs will be the keynote presenter at  the British American Chamber of Commerce  of Ohio Lunch speaking on “Cleveland as a Global City “
URL:https://globalcleveland.org/eventcalendar/cleveland-as-a-global-city-with-ccwa-new-ceo-marti-flacks/
LOCATION:Delmonico’s Steak House\, 6001 Quarry Lane Independence\,\, Independence\, OH\, 44131\, United States
CATEGORIES:Speaker
ATTACH;FMTTYPE=image/jpeg:https://globalcleveland.org/wp-content/uploads/2025/10/Marti-Flacks_final-for-web-768x825-1.jpg
ORGANIZER;CN="British American Chamber of Commerce of Ohio":MAILTO:info@baccohio.org
END:VEVENT
END:VCALENDAR